BEGIN:VCALENDAR
VERSION:2.0
PRODID:-//Citrus Plaza - ECPv6.13.2//NONSGML v1.0//EN
CALSCALE:GREGORIAN
METHOD:PUBLISH
X-WR-CALNAME:Citrus Plaza
X-ORIGINAL-URL:https://www.citrusplaza.com
X-WR-CALDESC:Events for Citrus Plaza
REFRESH-INTERVAL;VALUE=DURATION:PT1H
X-Robots-Tag:noindex
X-PUBLISHED-TTL:PT1H
BEGIN:VTIMEZONE
TZID:America/Los_Angeles
BEGIN:DAYLIGHT
TZOFFSETFROM:-0800
TZOFFSETTO:-0700
TZNAME:PDT
DTSTART:20260308T100000
END:DAYLIGHT
BEGIN:STANDARD
TZOFFSETFROM:-0700
TZOFFSETTO:-0800
TZNAME:PST
DTSTART:20261101T090000
END:STANDARD
END:VTIMEZONE
BEGIN:VEVENT
DTSTART;TZID=America/Los_Angeles:20260805T190000
DTEND;TZID=America/Los_Angeles:20260805T210000
DTSTAMP:20260423T025617
CREATED:20260324T183346Z
LAST-MODIFIED:20260331T225724Z
UID:2443-1785956400-1785963600@www.citrusplaza.com
SUMMARY:Live & Loud | Solo Sessions
DESCRIPTION:Make your way over for Matt Koerner on Wednesday\, August 5\, 2026 at Citrus Plaza – Food Court\, performing live from 7 PM – 9 PM. Expect a relaxed atmosphere\, great sounds\, and a memorable evening.
URL:https://www.citrusplaza.com/event/live-loud-solo-sessions-38/
LOCATION:Citrus Plaza Food Court\, 27510 W Lugonia Ave\, Redlands\, CA\, 92374\, United States
ATTACH;FMTTYPE=image/png:https://www.citrusplaza.com/wp-content/uploads/2026/03/ukkia30ccvaz4yatowh5ef2dlqvvq90w-psJwXd.png
END:VEVENT
BEGIN:VEVENT
DTSTART;TZID=America/Los_Angeles:20260806T190000
DTEND;TZID=America/Los_Angeles:20260806T210000
DTSTAMP:20260423T025617
CREATED:20260324T183346Z
LAST-MODIFIED:20260331T225725Z
UID:2444-1786042800-1786050000@www.citrusplaza.com
SUMMARY:Live & Loud | Solo Sessions
DESCRIPTION:Kick off your night with Peter Casey on Thursday\, August 6\, 2026 at Mountain Grove – Lawn\, performing live from 7 PM – 9 PM. It’s the perfect midweek or weekend stop for live local music.
URL:https://www.citrusplaza.com/event/live-loud-solo-sessions-39/
LOCATION:Mountain Grove Food Court\, 27511 San Bernardino Ave\, Redlands\, CA\, 92374
ATTACH;FMTTYPE=image/png:https://www.citrusplaza.com/wp-content/uploads/2026/03/svkv5bdwlbcin28mtzyan70zf2dw4lpo-GVK9qU.png
END:VEVENT
BEGIN:VEVENT
DTSTART;TZID=America/Los_Angeles:20260807T190000
DTEND;TZID=America/Los_Angeles:20260807T210000
DTSTAMP:20260423T025617
CREATED:20260324T183347Z
LAST-MODIFIED:20260331T225725Z
UID:2445-1786129200-1786136400@www.citrusplaza.com
SUMMARY:Live & Loud | Solo Sessions
DESCRIPTION:Enjoy an upbeat evening with a performer to be announced on Friday\, August 7\, 2026 at Citrus Plaza – Food Court\, performing live from 7 PM – 9 PM. Come enjoy the performance and make the most of the evening.
URL:https://www.citrusplaza.com/event/live-loud-solo-sessions-40/
LOCATION:Citrus Plaza Food Court\, 27510 W Lugonia Ave\, Redlands\, CA\, 92374\, United States
END:VEVENT
BEGIN:VEVENT
DTSTART;TZID=America/Los_Angeles:20260812T190000
DTEND;TZID=America/Los_Angeles:20260812T210000
DTSTAMP:20260423T025617
CREATED:20260324T183545Z
LAST-MODIFIED:20260331T225824Z
UID:2447-1786561200-1786568400@www.citrusplaza.com
SUMMARY:Live & Loud | Solo Sessions
DESCRIPTION:We’re excited to welcome Woody Garcia on Wednesday\, August 12\, 2026 at Mountain Grove – Lawn\, performing live from 7 PM – 9 PM. Bring your friends\, grab a bite\, and enjoy the music.
URL:https://www.citrusplaza.com/event/live-loud-solo-sessions-41/
LOCATION:Mountain Grove Food Court\, 27511 San Bernardino Ave\, Redlands\, CA\, 92374
ATTACH;FMTTYPE=image/png:https://www.citrusplaza.com/wp-content/uploads/2026/03/ydinx0fc1s5bi029no2fs8uxzdjp3o35-SSg3KI.png
END:VEVENT
BEGIN:VEVENT
DTSTART;TZID=America/Los_Angeles:20260813T190000
DTEND;TZID=America/Los_Angeles:20260813T210000
DTSTAMP:20260423T025617
CREATED:20260324T183546Z
LAST-MODIFIED:20260331T225824Z
UID:2448-1786647600-1786654800@www.citrusplaza.com
SUMMARY:Live & Loud | Solo Sessions
DESCRIPTION:Come out and enjoy Shea Givens on Thursday\, August 13\, 2026 at Citrus Plaza – Food Court\, performing live from 7 PM – 9 PM. It’s shaping up to be a fun and easygoing summer night.
URL:https://www.citrusplaza.com/event/live-loud-solo-sessions-42/
LOCATION:Citrus Plaza Food Court\, 27510 W Lugonia Ave\, Redlands\, CA\, 92374\, United States
ATTACH;FMTTYPE=image/png:https://www.citrusplaza.com/wp-content/uploads/2026/03/btaa3t7hso3rugw2bv6nsqxqukeaiwzj-0MG05G.png
END:VEVENT
BEGIN:VEVENT
DTSTART;TZID=America/Los_Angeles:20260814T190000
DTEND;TZID=America/Los_Angeles:20260814T210000
DTSTAMP:20260423T025617
CREATED:20260324T183546Z
LAST-MODIFIED:20260331T225825Z
UID:2449-1786734000-1786741200@www.citrusplaza.com
SUMMARY:Live & Loud | Solo Sessions
DESCRIPTION:Get ready for Travis Humble on Friday\, August 14\, 2026 at Mountain Grove – Lawn\, performing live from 7 PM – 9 PM. Come early\, get comfortable\, and stay for the full set.
URL:https://www.citrusplaza.com/event/live-loud-solo-sessions-43/
LOCATION:Mountain Grove Food Court\, 27511 San Bernardino Ave\, Redlands\, CA\, 92374
ATTACH;FMTTYPE=image/png:https://www.citrusplaza.com/wp-content/uploads/2026/03/5e16gu6zs507z7ixfan9xk6ra22ll55h-s6rAuv.png
END:VEVENT
BEGIN:VEVENT
DTSTART;TZID=America/Los_Angeles:20260819T190000
DTEND;TZID=America/Los_Angeles:20260819T210000
DTSTAMP:20260423T025617
CREATED:20260324T183546Z
LAST-MODIFIED:20260331T225825Z
UID:2450-1787166000-1787173200@www.citrusplaza.com
SUMMARY:Live & Loud | Solo Sessions
DESCRIPTION:Join us for Erik James on Wednesday\, August 19\, 2026 at Citrus Plaza – Food Court\, performing live from 7 PM – 9 PM. This is a great chance to unwind and enjoy live entertainment.
URL:https://www.citrusplaza.com/event/live-loud-solo-sessions-44/
LOCATION:Citrus Plaza Food Court\, 27510 W Lugonia Ave\, Redlands\, CA\, 92374\, United States
ATTACH;FMTTYPE=image/png:https://www.citrusplaza.com/wp-content/uploads/2026/03/uwi9xeavkr4azoun5pa0zenijtwc51e4-spSDMV.png
END:VEVENT
BEGIN:VEVENT
DTSTART;TZID=America/Los_Angeles:20260820T190000
DTEND;TZID=America/Los_Angeles:20260820T210000
DTSTAMP:20260423T025617
CREATED:20260324T183548Z
LAST-MODIFIED:20260331T225825Z
UID:2451-1787252400-1787259600@www.citrusplaza.com
SUMMARY:Live & Loud | Solo Sessions
DESCRIPTION:Spend a summer evening with Jimmy Becker on Thursday\, August 20\, 2026 at Mountain Grove – Lawn\, performing live from 7 PM – 9 PM. Plan on a lively night filled with great music and summer energy.
URL:https://www.citrusplaza.com/event/live-loud-solo-sessions-45/
LOCATION:Mountain Grove Food Court\, 27511 San Bernardino Ave\, Redlands\, CA\, 92374
ATTACH;FMTTYPE=image/png:https://www.citrusplaza.com/wp-content/uploads/2026/03/xq6x25onc4abxs7g896bwpvormgt58ck-5JZGL4.png
END:VEVENT
BEGIN:VEVENT
DTSTART;TZID=America/Los_Angeles:20260821T190000
DTEND;TZID=America/Los_Angeles:20260821T210000
DTSTAMP:20260423T025617
CREATED:20260324T183746Z
LAST-MODIFIED:20260331T230025Z
UID:2453-1787338800-1787346000@www.citrusplaza.com
SUMMARY:Live & Loud | Solo Sessions
DESCRIPTION:Make your way over for a performer to be announced on Friday\, August 21\, 2026 at Citrus Plaza – Food Court\, performing live from 7 PM – 9 PM. Expect a relaxed atmosphere\, great sounds\, and a memorable evening.
URL:https://www.citrusplaza.com/event/live-loud-solo-sessions-46/
LOCATION:Citrus Plaza Food Court\, 27510 W Lugonia Ave\, Redlands\, CA\, 92374\, United States
END:VEVENT
BEGIN:VEVENT
DTSTART;TZID=America/Los_Angeles:20260826T190000
DTEND;TZID=America/Los_Angeles:20260826T210000
DTSTAMP:20260423T025617
CREATED:20260324T183746Z
LAST-MODIFIED:20260331T230025Z
UID:2454-1787770800-1787778000@www.citrusplaza.com
SUMMARY:Live & Loud | Solo Sessions
DESCRIPTION:Kick off your night with Apryle Dalmacio on Wednesday\, August 26\, 2026 at Mountain Grove – Lawn\, performing live from 7 PM – 9 PM. It’s the perfect midweek or weekend stop for live local music.
URL:https://www.citrusplaza.com/event/live-loud-solo-sessions-47/
LOCATION:Mountain Grove Food Court\, 27511 San Bernardino Ave\, Redlands\, CA\, 92374
ATTACH;FMTTYPE=image/png:https://www.citrusplaza.com/wp-content/uploads/2026/03/z1e3rqcvcchxlqddx4q6f76sd9ktclwe-S6bzYo.png
END:VEVENT
BEGIN:VEVENT
DTSTART;TZID=America/Los_Angeles:20260827T190000
DTEND;TZID=America/Los_Angeles:20260827T210000
DTSTAMP:20260423T025617
CREATED:20260324T183747Z
LAST-MODIFIED:20260331T230026Z
UID:2455-1787857200-1787864400@www.citrusplaza.com
SUMMARY:Live & Loud | Solo Sessions
DESCRIPTION:Enjoy an upbeat evening with Shawn Jones on Thursday\, August 27\, 2026 at Citrus Plaza – Food Court\, performing live from 7 PM – 9 PM. Come enjoy the performance and make the most of the evening.
URL:https://www.citrusplaza.com/event/live-loud-solo-sessions-48/
LOCATION:Citrus Plaza Food Court\, 27510 W Lugonia Ave\, Redlands\, CA\, 92374\, United States
ATTACH;FMTTYPE=image/png:https://www.citrusplaza.com/wp-content/uploads/2026/03/kghj0jnz4fafza8zbb677uodl875lj42-It5PXr.png
END:VEVENT
BEGIN:VEVENT
DTSTART;TZID=America/Los_Angeles:20260828T190000
DTEND;TZID=America/Los_Angeles:20260828T210000
DTSTAMP:20260423T025617
CREATED:20260324T183748Z
LAST-MODIFIED:20260331T230026Z
UID:2456-1787943600-1787950800@www.citrusplaza.com
SUMMARY:Live & Loud | Solo Sessions
DESCRIPTION:We’re excited to welcome Evan Diamond on Friday\, August 28\, 2026 at Mountain Grove – Lawn\, performing live from 7 PM – 9 PM. Bring your friends\, grab a bite\, and enjoy the music.
URL:https://www.citrusplaza.com/event/live-loud-solo-sessions-49/
LOCATION:Mountain Grove Food Court\, 27511 San Bernardino Ave\, Redlands\, CA\, 92374
ATTACH;FMTTYPE=image/png:https://www.citrusplaza.com/wp-content/uploads/2026/03/7kas5tnpzyfrt8a3vglrzpphi4lgeosb-21AmOC.png
END:VEVENT
END:VCALENDAR